BEGIN:VCALENDAR
VERSION:2.0
PRODID:-//Zöliakie Austausch - ECPv6.15.20//NONSGML v1.0//EN
CALSCALE:GREGORIAN
METHOD:PUBLISH
X-WR-CALNAME:Zöliakie Austausch
X-ORIGINAL-URL:https://www.zoeliakie-austausch.de
X-WR-CALDESC:Veranstaltungen für Zöliakie Austausch
REFRESH-INTERVAL;VALUE=DURATION:PT1H
X-Robots-Tag:noindex
X-PUBLISHED-TTL:PT1H
BEGIN:VTIMEZONE
TZID:Europe/Berlin
BEGIN:DAYLIGHT
TZOFFSETFROM:+0100
TZOFFSETTO:+0200
TZNAME:CEST
DTSTART:20250330T010000
END:DAYLIGHT
BEGIN:STANDARD
TZOFFSETFROM:+0200
TZOFFSETTO:+0100
TZNAME:CET
DTSTART:20251026T010000
END:STANDARD
BEGIN:DAYLIGHT
TZOFFSETFROM:+0100
TZOFFSETTO:+0200
TZNAME:CEST
DTSTART:20260329T010000
END:DAYLIGHT
BEGIN:STANDARD
TZOFFSETFROM:+0200
TZOFFSETTO:+0100
TZNAME:CET
DTSTART:20261025T010000
END:STANDARD
BEGIN:DAYLIGHT
TZOFFSETFROM:+0100
TZOFFSETTO:+0200
TZNAME:CEST
DTSTART:20270328T010000
END:DAYLIGHT
BEGIN:STANDARD
TZOFFSETFROM:+0200
TZOFFSETTO:+0100
TZNAME:CET
DTSTART:20271031T010000
END:STANDARD
END:VTIMEZONE
BEGIN:VEVENT
DTSTART;TZID=Europe/Berlin:20261029T080000
DTEND;TZID=Europe/Berlin:20261103T200000
DTSTAMP:20260420T183256
CREATED:20251218T152958Z
LAST-MODIFIED:20251218T152958Z
UID:33614-1793260800-1793736000@www.zoeliakie-austausch.de
SUMMARY:Glutenfreie Genusstage im Herbst in Scheidegg 2026
DESCRIPTION:Vom 29. Oktober bis 3. November finden die glutenfreien Genusstage in Scheidegg statt. \nDas besondere Rahmenprogramm für zöliakiebetroffene und interessierte Gäste umfasst geführte Wanderungen sowie abwechslungsreiche Workshops und Kochkurse.
URL:https://www.zoeliakie-austausch.de/event/glutenfreie-genusstage-in-scheidegg-2026/
LOCATION:Scheidegg\, Kirchplatz 2\, Scheidegg\, Bayern\, 88175\, Deutschland
CATEGORIES:Ausflug,Messen und Informationsveranstaltungen
ATTACH;FMTTYPE=image/jpeg:https://www.zoeliakie-austausch.de/wp-content/uploads/2021/12/Scheidegg-Blog-Side-Banner-Jan22.jpg
ORGANIZER;CN="Scheidegg-Tourismus":MAILTO:info@scheidegg.de
END:VEVENT
END:VCALENDAR