BEGIN:VCALENDAR
VERSION:2.0
PRODID:-//Zöliakie Austausch - ECPv6.15.20//NONSGML v1.0//EN
CALSCALE:GREGORIAN
METHOD:PUBLISH
X-WR-CALNAME:Zöliakie Austausch
X-ORIGINAL-URL:https://www.zoeliakie-austausch.de
X-WR-CALDESC:Veranstaltungen für Zöliakie Austausch
REFRESH-INTERVAL;VALUE=DURATION:PT1H
X-Robots-Tag:noindex
X-PUBLISHED-TTL:PT1H
BEGIN:VTIMEZONE
TZID:Europe/Berlin
BEGIN:DAYLIGHT
TZOFFSETFROM:+0100
TZOFFSETTO:+0200
TZNAME:CEST
DTSTART:20240331T010000
END:DAYLIGHT
BEGIN:STANDARD
TZOFFSETFROM:+0200
TZOFFSETTO:+0100
TZNAME:CET
DTSTART:20241027T010000
END:STANDARD
BEGIN:DAYLIGHT
TZOFFSETFROM:+0100
TZOFFSETTO:+0200
TZNAME:CEST
DTSTART:20250330T010000
END:DAYLIGHT
BEGIN:STANDARD
TZOFFSETFROM:+0200
TZOFFSETTO:+0100
TZNAME:CET
DTSTART:20251026T010000
END:STANDARD
BEGIN:DAYLIGHT
TZOFFSETFROM:+0100
TZOFFSETTO:+0200
TZNAME:CEST
DTSTART:20260329T010000
END:DAYLIGHT
BEGIN:STANDARD
TZOFFSETFROM:+0200
TZOFFSETTO:+0100
TZNAME:CET
DTSTART:20261025T010000
END:STANDARD
END:VTIMEZONE
BEGIN:VEVENT
DTSTART;TZID=Europe/Berlin:20251205T113000
DTEND;TZID=Europe/Berlin:20251207T200000
DTSTAMP:20260419T141754
CREATED:20251123T132339Z
LAST-MODIFIED:20251123T132339Z
UID:33544-1764934200-1765137600@www.zoeliakie-austausch.de
SUMMARY:Glutenfreies Angebot am Weihnachtsmarkt in Bad Wimpfen
DESCRIPTION:Auf dem Weihnachtsmarkt in Bad Wimpfen gibt es am Stand von Julie’s Bakehouse glutenfreie Produkte.  \nIhr könnt den Weihnachtsmarkt an drei Wochenenden besuchen. \n28.- 30.11.25 \n5.- 7.12.25 \n12.- 14.12.25 \n  \n 
URL:https://www.zoeliakie-austausch.de/event/glutenfreies-angebot-am-weihnachtsmarkt-in-bad-wimpfen-2/
LOCATION:Bad Wimpfen\, Marktplatz\, Marktplatz 2\, Bad Wimpfen\, Baden-Württemberg\, 74206\, Germany
CATEGORIES:Weihnachtsmarkt
ATTACH;FMTTYPE=image/jpeg:https://www.zoeliakie-austausch.de/wp-content/uploads/2025/11/IMG_6965-1.jpeg
END:VEVENT
BEGIN:VEVENT
DTSTART;TZID=Europe/Berlin:20251212T113000
DTEND;TZID=Europe/Berlin:20251214T200000
DTSTAMP:20260419T141754
CREATED:20251123T132529Z
LAST-MODIFIED:20251123T132529Z
UID:33546-1765539000-1765742400@www.zoeliakie-austausch.de
SUMMARY:Glutenfreies Angebot am Weihnachtsmarkt in Bad Wimpfen
DESCRIPTION:Auf dem Weihnachtsmarkt in Bad Wimpfen gibt es am Stand von Julie’s Bakehouse glutenfreie Produkte.  \nIhr könnt den Weihnachtsmarkt an drei Wochenenden besuchen. \n28.- 30.11.25 \n5.- 7.12.25 \n12.- 14.12.25 \n  \n 
URL:https://www.zoeliakie-austausch.de/event/glutenfreies-angebot-am-weihnachtsmarkt-in-bad-wimpfen-3/
LOCATION:Bad Wimpfen\, Marktplatz\, Marktplatz 2\, Bad Wimpfen\, Baden-Württemberg\, 74206\, Germany
CATEGORIES:Weihnachtsmarkt
ATTACH;FMTTYPE=image/jpeg:https://www.zoeliakie-austausch.de/wp-content/uploads/2025/11/IMG_6965-1.jpeg
END:VEVENT
END:VCALENDAR