BEGIN:VCALENDAR
VERSION:2.0
PRODID:-//Zöliakie Austausch - ECPv6.15.20//NONSGML v1.0//EN
CALSCALE:GREGORIAN
METHOD:PUBLISH
X-ORIGINAL-URL:https://www.zoeliakie-austausch.de
X-WR-CALDESC:Veranstaltungen für Zöliakie Austausch
REFRESH-INTERVAL;VALUE=DURATION:PT1H
X-Robots-Tag:noindex
X-PUBLISHED-TTL:PT1H
BEGIN:VTIMEZONE
TZID:Europe/Berlin
BEGIN:DAYLIGHT
TZOFFSETFROM:+0100
TZOFFSETTO:+0200
TZNAME:CEST
DTSTART:20240331T010000
END:DAYLIGHT
BEGIN:STANDARD
TZOFFSETFROM:+0200
TZOFFSETTO:+0100
TZNAME:CET
DTSTART:20241027T010000
END:STANDARD
BEGIN:DAYLIGHT
TZOFFSETFROM:+0100
TZOFFSETTO:+0200
TZNAME:CEST
DTSTART:20250330T010000
END:DAYLIGHT
BEGIN:STANDARD
TZOFFSETFROM:+0200
TZOFFSETTO:+0100
TZNAME:CET
DTSTART:20251026T010000
END:STANDARD
BEGIN:DAYLIGHT
TZOFFSETFROM:+0100
TZOFFSETTO:+0200
TZNAME:CEST
DTSTART:20260329T010000
END:DAYLIGHT
BEGIN:STANDARD
TZOFFSETFROM:+0200
TZOFFSETTO:+0100
TZNAME:CET
DTSTART:20261025T010000
END:STANDARD
END:VTIMEZONE
BEGIN:VEVENT
DTSTART;TZID=Europe/Berlin:20250108T190000
DTEND;TZID=Europe/Berlin:20250108T200000
DTSTAMP:20260420T061613
CREATED:20241213T164621Z
LAST-MODIFIED:20241213T164621Z
UID:32586-1736362800-1736366400@www.zoeliakie-austausch.de
SUMMARY:Zukunftsperspektiven in der Zöliakie-Therapie - Chancen und Herausforderungen bei der Entwicklung potenzieller Medikamente
DESCRIPTION:„Zukunftsperspektiven in der Zöliakie-Therapie – Chancen und Herausforderungen bei der Entwicklung potenzieller Medikamente“\n \nEin kostenloser Online Vortrag von Dr. Sebastian Stricker am Mittwoch\, 08. Januar 2024 um 19:00 Uhr\nDie Veranstaltung findet in der Facebookgruppe Zöliakie Austausch statt.\n \nZu Beginn wird Sebastian die Mechanismen der Krankheitsentstehung von Zöliakie erklären. Hauptschwerpunkt wird die dann Vorstellung der aktuell vielversprechendsten Therapieansätze sein.\nHier wird er dann auch seine eigene Forschungsarbeit zur Transglutaminase an der Justus-Liebig-Universität Gießen vorstellen. Sebastian wird auch auf die grundlegenden Probleme eingehen\, die bei der Medikamentenentwicklung für die Zöliakie bestehen.\n \nSebastian hat im April 2024 den Wissenschaftspreis der Gesellschaft für Pädiatrische Gastroenterologie und Ernährung erhalten.\nDie Auszeichnung der Fachgesellschaft erhält er für seine Untersuchungen zu potenziellen Kandidaten zur medikamentösen Therapie der Erkrankung. Die Fachgesellschaft zeichnet damit seine Grundlagenforschung zur Behandlung der Zöliakie aus.\nIm November erhielt er für seine herausragende Arbeit zur Rolle des Enzyms Transglutaminase im menschlichen Darm auch den Von Behring-Röntgen-Nachwuchspreis.\n \nDr. Sebastian Stricker ist 32 Jahre und Mitarbeiter im Bereich Kindergastroenterologie an der Justus-Liebig-Universität Gießen.\nIhr habt schon im Vorfeld Fragen zum Thema Medikamente und seine Forschung? Dann stellt sie hier in der Veranstaltung als Kommentar ein. Wir werden sie dann gesammelt an Sebastian weitergeben.
URL:https://www.zoeliakie-austausch.de/event/zukunftsperspektiven-in-der-zoeliakie-therapie-chancen-und-herausforderungen-bei-der-entwicklung-potenzieller-medikamente/
LOCATION:Online
CATEGORIES:Online-Infoveranstaltung
ATTACH;FMTTYPE=image/jpeg:https://www.zoeliakie-austausch.de/wp-content/uploads/2024/12/Online-Vortrag-Stricker.jpg
ORGANIZER;CN="Z%C3%B6liakie Austausch":MAILTO:info@zoeliakie-austausch.de
END:VEVENT
END:VCALENDAR