BEGIN:VCALENDAR
VERSION:2.0
PRODID:-//Zöliakie Austausch - ECPv6.15.20//NONSGML v1.0//EN
CALSCALE:GREGORIAN
METHOD:PUBLISH
X-WR-CALNAME:Zöliakie Austausch
X-ORIGINAL-URL:https://www.zoeliakie-austausch.de
X-WR-CALDESC:Veranstaltungen für Zöliakie Austausch
REFRESH-INTERVAL;VALUE=DURATION:PT1H
X-Robots-Tag:noindex
X-PUBLISHED-TTL:PT1H
BEGIN:VTIMEZONE
TZID:Europe/Berlin
BEGIN:DAYLIGHT
TZOFFSETFROM:+0100
TZOFFSETTO:+0200
TZNAME:CEST
DTSTART:20240331T010000
END:DAYLIGHT
BEGIN:STANDARD
TZOFFSETFROM:+0200
TZOFFSETTO:+0100
TZNAME:CET
DTSTART:20241027T010000
END:STANDARD
BEGIN:DAYLIGHT
TZOFFSETFROM:+0100
TZOFFSETTO:+0200
TZNAME:CEST
DTSTART:20250330T010000
END:DAYLIGHT
BEGIN:STANDARD
TZOFFSETFROM:+0200
TZOFFSETTO:+0100
TZNAME:CET
DTSTART:20251026T010000
END:STANDARD
BEGIN:DAYLIGHT
TZOFFSETFROM:+0100
TZOFFSETTO:+0200
TZNAME:CEST
DTSTART:20260329T010000
END:DAYLIGHT
BEGIN:STANDARD
TZOFFSETFROM:+0200
TZOFFSETTO:+0100
TZNAME:CET
DTSTART:20261025T010000
END:STANDARD
END:VTIMEZONE
BEGIN:VEVENT
DTSTART;TZID=Europe/Berlin:20250402T190000
DTEND;TZID=Europe/Berlin:20250402T200000
DTSTAMP:20260419T223344
CREATED:20250307T164140Z
LAST-MODIFIED:20250307T164140Z
UID:32710-1743620400-1743624000@www.zoeliakie-austausch.de
SUMMARY:Sicher glutenfrei durch den Alltag mit Fria
DESCRIPTION:Ist die Diagnose Zöliakie gestellt\, gibt es viele Fragen: \n\nWas darf ich essen und was nicht?\nWie erkenne ich glutenfreie Lebensmittel?\nWen muss ich informieren und wie mache ich das am besten?\nWelche Alltagsroutinen ändern sich?\n\nDie Ernährungsumstellung ist ein echter Kraftakt\, der sich nicht nur auf glutenfreies Essen beschränkt\, sondern in alle Bereiche des Lebens eingreift. Ute Hamacher-Reichenberger\, Zöliakie-Expertin bei Fria\, zeigt euch im kostenlosen Vortrag die ersten Schritte in ein glutenfreies Leben\, welche Ressourcen ihr unbedingt braucht und wo ihr euch Unterstützung holen könnt. \nZielgruppe: Erwachsene mit der Diagnose Zöliakie und deren Angehörige. \nDauer: ca. 60 Minuten \nOrt: Online in der Facebookgruppe Zöliakie Austausch \nDen Link findet ihr in der digitalen Veranstaltungseite \nZur Referentin: \nUte Hamacher-Reichenberger\, M.A. Organisationsentwicklung\, Dipl. Sozialpädagogin\, 49 Jahre alt\, seit Geburt von Zöliakie betroffen\, verheiratet\, 4 Kinder. Ute Hamacher-Reichenberger arbeitet als Zöliakie-Expertin für Fria. Sie ist verantwortlich für die Beratung der Kunden und Verbraucher\, der Handelspartner sowie für die Zusammenarbeit mit relevanten nationalen und internationalen Verbänden und Organisationen in allen Fragen rund um die glutenfreie Ernährung. Selbst von Zöliakie betroffen kennt Ute Hamacher- Reichenberger die Herausforderungen der glutenfreien Ernährung und dem Umgang mit der Autoimmunerkrankung Zöliakie im Detail
URL:https://www.zoeliakie-austausch.de/event/sicher-glutenfrei-durch-den-alltag-mit-fria/
LOCATION:Online
ATTACH;FMTTYPE=image/jpeg:https://www.zoeliakie-austausch.de/wp-content/uploads/2025/03/Veranstaltung-Vortrag-fria-2025.jpg
ORGANIZER;CN="Z%C3%B6liakie Austausch":MAILTO:info@zoeliakie-austausch.de
END:VEVENT
END:VCALENDAR