BEGIN:VCALENDAR
VERSION:2.0
PRODID:-//Zöliakie Austausch - ECPv6.15.20//NONSGML v1.0//EN
CALSCALE:GREGORIAN
METHOD:PUBLISH
X-ORIGINAL-URL:https://www.zoeliakie-austausch.de
X-WR-CALDESC:Veranstaltungen für Zöliakie Austausch
REFRESH-INTERVAL;VALUE=DURATION:PT1H
X-Robots-Tag:noindex
X-PUBLISHED-TTL:PT1H
BEGIN:VTIMEZONE
TZID:Europe/Berlin
BEGIN:DAYLIGHT
TZOFFSETFROM:+0100
TZOFFSETTO:+0200
TZNAME:CEST
DTSTART:20220327T010000
END:DAYLIGHT
BEGIN:STANDARD
TZOFFSETFROM:+0200
TZOFFSETTO:+0100
TZNAME:CET
DTSTART:20221030T010000
END:STANDARD
BEGIN:DAYLIGHT
TZOFFSETFROM:+0100
TZOFFSETTO:+0200
TZNAME:CEST
DTSTART:20230326T010000
END:DAYLIGHT
BEGIN:STANDARD
TZOFFSETFROM:+0200
TZOFFSETTO:+0100
TZNAME:CET
DTSTART:20231029T010000
END:STANDARD
BEGIN:DAYLIGHT
TZOFFSETFROM:+0100
TZOFFSETTO:+0200
TZNAME:CEST
DTSTART:20240331T010000
END:DAYLIGHT
BEGIN:STANDARD
TZOFFSETFROM:+0200
TZOFFSETTO:+0100
TZNAME:CET
DTSTART:20241027T010000
END:STANDARD
END:VTIMEZONE
BEGIN:VEVENT
DTSTART;VALUE=DATE:20230729
DTEND;VALUE=DATE:20230807
DTSTAMP:20260421T080606
CREATED:20230426T142014Z
LAST-MODIFIED:20230426T142014Z
UID:30836-1690588800-1691366399@www.zoeliakie-austausch.de
SUMMARY:Glutenfrei-Wochen in Scheidegg im Allgäu
DESCRIPTION:Vom 29. Juli bis zum 6. August 2023 dreht sich in Scheidegg wieder alles rund um das Thema „glutenfrei“. Neun Tage lang haben alle Gäste und deren Familien die Möglichkeit\, am speziell abgestimmten glutenfreien Urlaubs- und Wanderprogramm teilzunehmen. \nAuf der verlinkten Seite findet ihr Informationen zu den einzelnen Veranstaltungen. Dort stehen auch in der PDF Datei die Angaben zu Preisen und Anmeldelfristen. \nhttps://www.scheidegg.de/glutenfrei-in-scheidegg/glutenfrei-wochen-in-scheidegg/ \n 
URL:https://www.zoeliakie-austausch.de/event/glutenfrei-wochen-in-scheidegg-im-allgaeu/
LOCATION:Scheidegg\, Kirchplatz 2\, Scheidegg\, Bayern\, 88175\, Deutschland
CATEGORIES:Ausflug,Backkurs Offline vor Ort,Messen und Informationsveranstaltungen
ATTACH;FMTTYPE=image/jpeg:https://www.zoeliakie-austausch.de/wp-content/uploads/2021/08/Scheidegg_Infotag_2021_Zoeliakie_Austausch_011.jpg
ORGANIZER;CN="Scheidegg-Tourismus":MAILTO:info@scheidegg.de
END:VEVENT
BEGIN:VEVENT
DTSTART;TZID=Europe/Berlin:20230729T100000
DTEND;TZID=Europe/Berlin:20230729T170000
DTSTAMP:20260421T080606
CREATED:20230426T141155Z
LAST-MODIFIED:20230426T141155Z
UID:30820-1690624800-1690650000@www.zoeliakie-austausch.de
SUMMARY:Scheidegger Glutenfrei-Markt mit Info-Tag
DESCRIPTION:Beim Scheidegger Glutenfrei-Markt mit Info-Tag am Samstag\, 29. Juli 2023 im Scheidegger Ortskern erwarten Euch verschiedene heimische und überregionale Anbieter von glutenfreien Produkten. Für das leibliche Wohl ist natürlich auch gesorgt\, denn es gibt vor Ort regionale Spezialitäten und überregionale Köstlichkeiten. Auf die jüngsten Gäste wartet ein Kinderprogramm. \nEs finden auch Vorträge\, Diskussionen und Back- und Kochshows statt. \nLink zum Video bei Facebook (Anmeldung erforderlich) mit einem Rundgang auf dem Markt aus dem Jahr  2022 \nLink mit Rückblick auf die Veranstaltung aus dem Jahr 2021
URL:https://www.zoeliakie-austausch.de/event/scheidegger-glutenfrei-markt-mit-info-tag/
LOCATION:Scheidegg\, Kirchplatz 2\, Scheidegg\, Bayern\, 88175\, Deutschland
CATEGORIES:Messen und Informationsveranstaltungen
ATTACH;FMTTYPE=image/jpeg:https://www.zoeliakie-austausch.de/wp-content/uploads/2021/08/Scheidegg_Infotag_2021_Zoeliakie_Austausch_026.jpg
ORGANIZER;CN="Scheidegg-Tourismus":MAILTO:info@scheidegg.de
END:VEVENT
END:VCALENDAR