BEGIN:VCALENDAR
VERSION:2.0
PRODID:-//Zöliakie Austausch - ECPv6.15.20//NONSGML v1.0//EN
CALSCALE:GREGORIAN
METHOD:PUBLISH
X-ORIGINAL-URL:https://www.zoeliakie-austausch.de
X-WR-CALDESC:Veranstaltungen für Zöliakie Austausch
REFRESH-INTERVAL;VALUE=DURATION:PT1H
X-Robots-Tag:noindex
X-PUBLISHED-TTL:PT1H
BEGIN:VTIMEZONE
TZID:Europe/Berlin
BEGIN:DAYLIGHT
TZOFFSETFROM:+0100
TZOFFSETTO:+0200
TZNAME:CEST
DTSTART:20240331T010000
END:DAYLIGHT
BEGIN:STANDARD
TZOFFSETFROM:+0200
TZOFFSETTO:+0100
TZNAME:CET
DTSTART:20241027T010000
END:STANDARD
BEGIN:DAYLIGHT
TZOFFSETFROM:+0100
TZOFFSETTO:+0200
TZNAME:CEST
DTSTART:20250330T010000
END:DAYLIGHT
BEGIN:STANDARD
TZOFFSETFROM:+0200
TZOFFSETTO:+0100
TZNAME:CET
DTSTART:20251026T010000
END:STANDARD
BEGIN:DAYLIGHT
TZOFFSETFROM:+0100
TZOFFSETTO:+0200
TZNAME:CEST
DTSTART:20260329T010000
END:DAYLIGHT
BEGIN:STANDARD
TZOFFSETFROM:+0200
TZOFFSETTO:+0100
TZNAME:CET
DTSTART:20261025T010000
END:STANDARD
END:VTIMEZONE
BEGIN:VEVENT
DTSTART;TZID=Europe/Berlin:20250403T100000
DTEND;TZID=Europe/Berlin:20250403T190000
DTSTAMP:20260420T061613
CREATED:20250325T173127Z
LAST-MODIFIED:20250325T173127Z
UID:32777-1743674400-1743706800@www.zoeliakie-austausch.de
SUMMARY:PreOpening - Glutenfreier Shop in Stuttgart
DESCRIPTION:Steffen hat selbst zwei Zöliakie Betroffene in der Familie und sich deshalb entschlossen einen glutenfreien Onlineshop aufzubauen\, um das Produktangebot zu erweitern. \nIm Shop soll es in Zukunft neben den bekannten glutenfreien Marken auch Produkte geben\, die bisher noch selten in Deutschland zu bekommen sind. \nNeben dem Onlineshop könnt ihr in Zukunft glutenfreie Produkte auch direkt im Laden in Stuttgart erwerben. \nIm Laden wird es am 3.4.2025 von 10-19 Uhr ein Pre-Opening Event in Form eines „Lagerverkaufs“ geben\, zu dem alle herzlich eingeladen sind. \nEs soll ein für alle ein unglaublich tolles Gefühl sein\, einfach mal vor den großen Regalen zu stehen und alles Mögliche an glutenfreien Produkten vor sich sehen zu können. \nSchaut vorbei und nutzt den exklusiven Opening Rabatt von 10%. \n  \n  \n 
URL:https://www.zoeliakie-austausch.de/event/preopening-glutenfreier-shop-in-stuttgart/
LOCATION:dlcs.store\, Falbenhennenstr. 17\, Stuttgart\, Baden-Württemberg\, 70180\, Germany
CATEGORIES:Eröffnungsveranstaltung
ATTACH;FMTTYPE=image/jpeg:https://www.zoeliakie-austausch.de/wp-content/uploads/2025/03/dlcs-preopening.jpg
END:VEVENT
END:VCALENDAR